Workbook

Sheet Sheet1
A1: 2026年春季学期雨露计划汇总表
A4: 序号 | B4: 镇 | C4: 行政村 | D4: 学生姓名 | E4: 学生身份证号 | F4: 学校名称 | G4: 学校性质 | H4: 学制（年） | I4: 入学时间 | J4: 户主姓名 | K4: 户主身份证号 | L4: 开户行（） | M4: 社保卡卡号 | N4: 持卡人姓名 | O4: 持卡人身份证号 | P4: 与学生关系 | Q4: 发放金额（元） | R4: 备注（是否新申请）
A5: 1 | B5: 南马庄乡 | C5: 小关城村 | D5: 李圣杰 | E5: 130630********1814 | F5: 武昌职业学院 | G5: 高职 | H5: 三年制 | I5: 45536 | J5: 李保 | K5: 132424********181X | L5: 中国工商银行股份有限公司涞源支行 | M5: 62220**********2104 | N5: 李圣杰 | O5: 130630********1814 | P5: 本人 | Q5: 1500
A6: 2 | B6: 南马庄乡 | C6: 小关城村 | D6: 王凯新 | E6: 130630********1827 | F6: 河北正定师范高等专科学校 | G6: 高职 | H6: 三年制 | I6: 45901 | J6: 王二章 | K6: 132424********1812 | L6: 中国邮政储蓄银行涞源支行 | M6: 62179**********5316 | N6: 王凯新 | O6: 130630********1814 | P6: 本人 | Q6: 1500
A7: 3 | B7: 南马庄乡 | C7: 小关城村 | D7: 王庆华 | E7: 130630********1827 | F7: 河北机电职业技术学院 | G7: 高职 | H7: 三年制 | I7: 45170 | J7: 王双明 | K7: 132424********1836 | L7: 中国工商银行股份有限公司涞源支行 | M7: 62220**********7008 | N7: 王庆华 | O7: 130630********1814 | P7: 本人 | Q7: 1500
A8: 4 | B8: 南马庄乡 | C8: 小关城村 | D8: 王庆玲 | E8: 130630********1843 | F8: 衡水职业技术学院 | G8: 高职 | H8: 三年制 | I8: 45901 | J8: 王庆玲 | K8: 130630********1843 | L8: 中国邮政储蓄银行涞源支行 | M8: 62179**********0720 | N8: 王庆玲 | O8: 130630********1814 | P8: 本人 | Q8: 1500
A9: 5 | B9: 南马庄乡 | C9: 小关城村 | D9: 王达 | E9: 130630********1818 | F9: 石家庄东华铁路中等专业学校 | G9: 中职 | H9: 三年制 | I9: 45992 | J9: 安河艳 | K9: 132424********1827 | L9: 中国农业银行股份有限公司涞源县支行 | M9: 62282**********9471 | N9: 王达 | O9: 130630********1814 | P9: 本人 | Q9: 1500
A10: 6 | B10: 南马庄乡 | C10: 谢台村 | D10: 李茵 | E10: 130630********1823 | F10: 涿州市技师学院 | G10: 技工院校 | H10: 二年制 | I10: 45901 | J10: 李过军 | K10: 132424********1814 | L10: 中国邮政储蓄银行涞源支行 | M10: 62179**********7938 | N10: 李过军 | O10: 130630********1814 | P10: 父女 | Q10: 1500
A11: 7 | B11: 南马庄乡 | C11: 谢台村 | D11: 李然 | E11: 130630********1825 | F11: 涞源县职业技术教育中心 | G11: 高职 | H11: 三年制 | I11: 45901 | J11: 李金强 | K11: 132424********181X | L11: 中国邮政储蓄银行涞源支行 | M11: 62179**********7565 | N11: 李金强 | O11: 130630********1814 | P11: 父女 | Q11: 1500
A12: 8 | B12: 南马庄乡 | C12: 谢台村 | D12: 史曼路 | E12: 130630********1823 | F12: 宝鸡三和职业学院 | G12: 高职 | H12: 三年制 | I12: 45170 | J12: 张峰 | K12: 132424********1825 | L12: 中国邮政储蓄银行涞源支行 | M12: 62179**********8544 | N12: 史曼路 | O12: 130630********1814 | P12: 母女 | Q12: 1500
A13: 9 | B13: 南马庄乡 | C13: 谢台村 | D13: 张晓雅 | E13: 130630********1827 | F13: 安阳幼儿师范高等专科学校 | G13: 高职 | H13: 三年制 | I13: 45536 | J13: 张志和 | K13: 132424********1819 | L13: 中国邮政储蓄银行涞源支行 | M13: 62179**********9414 | N13: 张志和 | O13: 130630********1814 | P13: 父女 | Q13: 1500
A14: 10 | B14: 南马庄乡 | C14: 焦树庄 | D14: 张铁权 | E14: 130630********1811 | F14: 涞源县职业技术教育中心 | G14: 中职 | H14: 三年制 | I14: 45170 | J14: 张海力 | K14: 132424********1813 | L14: 中国邮政储蓄银行涞源支行 | M14: 62179**********2314 | N14: 张海力 | O14: 130630********1814 | P14: 父子 | Q14: 1500
A15: 11 | B15: 南马庄乡 | C15: 焦树庄 | D15: 李苗 | E15: 130630********1822 | F15: 廊坊职业技术学院 | G15: 高职 | H15: 三年制 | I15: 45536 | J15: 李长命 | K15: 132424********1810 | L15: 中国邮政储蓄银行涞源支行 | M15: 62179**********8556 | N15: 李长命 | O15: 130630********1814 | P15: 父女 | Q15: 1500
A16: 12 | B16: 南马庄乡 | C16: 焦树庄 | D16: 杨瑾 | E16: 130630********1820 | F16: 沧州航空职业学院 | G16: 高职 | H16: 三年制 | I16: 45901 | J16: 杨记虎 | K16: 132424********1813 | L16: 中国邮政储蓄银行涞源支行 | M16: 62179**********3965 | N16: 杨瑾 | O16: 130630********1814 | P16: 本人 | Q16: 1500
A17: 13 | B17: 南马庄乡 | C17: 焦树庄 | D17: 李悦雯 | E17: 130630********182X | F17: 涞源县职业技术教育中心 | G17: 中职 | H17: 三年制 | I17: 45901 | J17: 李电亮 | K17: 130630********1810 | L17: 中国农业银行股份有限公司涞源县支行 | M17: 62282**********1070 | N17: 李悦雯 | O17: 130630********1814 | P17: 本人 | Q17: 1500
A18: 14 | B18: 南马庄乡 | C18: 范台村 | D18: 何佳荣 | E18: 130630********1822 | F18: 河北省涞源县职业技术教育中心 | G18: 中职 | H18: 三年制 | I18: 45536 | J18: 何建军 | K18: 132424********1811 | L18: 中国邮政储蓄银行涞源支行 | M18: 62179**********9350 | N18: 刘小四 | O18: 130630********1814 | P18: 母女 | Q18: 1500
A19: 15 | B19: 南马庄乡 | C19: 范台村 | D19: 刘佳瑞 | E19: 130630********1812 | F19: 河北省涞源县职业技术教育中心 | G19: 中职 | H19: 三年制 | I19: 45901 | J19: 刘永青 | K19: 132424********1858 | L19: 中国邮政储蓄银行涞源支行 | M19: 62179**********2665 | N19: 张月珍 | O19: 130630********1814 | P19: 母子 | Q19: 1500
A20: 16 | B20: 南马庄乡 | C20: 范台村 | D20: 刘丽娟 | E20: 130630********1822 | F20: 衡水职业技术学院 | G20: 高职 | H20: 三年制 | I20: 45901 | J20: 刘翠娥 | K20: 132424********1847 | L20: 中国邮政储蓄银行涞源支行 | M20: 62179**********1292 | N20: 刘翠娥 | O20: 130630********1814 | P20: 母女 | Q20: 1500
A21: 17 | B21: 南马庄乡 | C21: 范台村 | D21: 刘雅丽 | E21: 130630********1821 | F21: 河北省涞源县职业技术教育中心 | G21: 中职 | H21: 三年制 | I21: 45170 | J21: 刘天河 | K21: 132424********1811 | L21: 中国邮政储蓄银行涞源支行 | M21: 62179**********1655 | N21: 张均晴 | O21: 130630********1814 | P21: 母女 | Q21: 1500
A22: 18 | B22: 南马庄乡 | C22: 范台村 | D22: 刘艺畅 | E22: 130630********1829 | F22: 石家庄城市经济职业学院 | G22: 高职 | H22: 三年制 | I22: 45536 | J22: 刘关 | K22: 132424********1813 | L22: 中国邮政储蓄银行涞源支行 | M22: 62179**********4414 | N22: 段梅珍 | O22: 130630********1814 | P22: 母女 | Q22: 1500
A23: 19 | B23: 南马庄乡 | C23: 范台村 | D23: 刘勇杰 | E23: 130630********1815 | F23: 河北省涞源县职业技术教育中心 | G23: 中职 | H23: 三年制 | I23: 45536 | J23: 刘艮中 | K23: 132424********1811 | L23: 中国邮政储蓄银行涞源支行 | M23: 62179**********1292 | N23: 刘翠娥 | O23: 130630********1814 | P23: 母子 | Q23: 1500
... A29: 25 | B29: 南马庄乡 | C29: 范台村 | D29: 邹程明 | E29: 130630********1817 | F29: 河北省涞源县职业技术教育中心 | G29: 中职 | H29: 三年制 | I29: 45170 | J29: 邹保印 | K29: 132424********1817 | L29: 中国邮政储蓄银行涞源支行 | M29: 62179**********5233 | N29: 邹保印 | O29: 130630********1814 | P29: 父子 | Q29: 1500
A30: 26 | B30: 南马庄乡 | C30: 向阳会村 | D30: 崔景越 | E30: 130630********1838 | F30: 宣化科技职业学院 | G30: 高职 | H30: 二年制 | I30: 45566 | J30: 崔海龙 | K30: 130630********1818 | L30: 中国邮政储蓄银行涞源支行 | M30: 62179**********5113 | N30: 李青云 | O30: 130630********1814 | P30: 母子 | Q30: 1500
A31: 27 | B31: 南马庄乡 | C31: 向阳会村 | D31: 张思彤 | E31: 130630********1826 | F31: 秦皇岛工业职业技术学院 | G31: 高职 | H31: 三年制 | I31: 45505 | J31: 张海堂 | K31: 132424********1817 | L31: 河北农村信用社涞源支行 | M31: 62350**********1712 | N31: 张思彤 | O31: 130630********1814 | P31: 本人 | Q31: 1500
A32: 28 | B32: 南马庄乡 | C32: 向阳会村 | D32: 张思宇 | E32: 130630********182X | F32: 唐山幼儿师范高等专科学校 | G32: 高职 | H32: 三年制 | I32: 45901 | J32: 张海堂 | K32: 132424********1817 | L32: 中国邮政储蓄银行涞源支行 | M32: 62179**********6327 | N32: 张思宇 | O32: 130630********1814 | P32: 本人 | Q32: 1500
A33: 29 | B33: 南马庄乡 | C33: 向阳会村 | D33: 魏海行 | E33: 130630********1813 | F33: 黑龙江农垦职业学院 | G33: 高职 | H33: 三年制 | I33: 45901 | J33: 魏月军 | K33: 130630********1816 | L33: 中国邮政储蓄银行涞源支行 | M33: 62179**********3140 | N33: 魏月军 | O33: 130630********1814 | P33: 父子 | Q33: 1500
A34: 30 | B34: 南马庄乡 | C34: 桦木沟村 | D34: 张亚绘 | E34: 130630********182X | F34: 保定容大平安技工学校 | G34: 高职 | H34: 三年制 | I34: 45170 | J34: 张民利 | K34: 132424********1813 | L34: 中国邮政储蓄银行涞源支行 | M34: 62179**********0000 | N34: 张民利 | O34: 130630********1814 | P34: 父女 | Q34: 1500
A35: 31 | B35: 南马庄乡 | C35: 桦木沟村 | D35: 刘美佳 | E35: 130630********1824 | F35: 邯郸幼儿师范高等专科学校 | G35: 高职 | H35: 三年制 | I35: 45901 | J35: 刘春雷 | K35: 132424********1812 | L35: 中国工商银行股份有限公司涞源支行 | M35: 62172**********0000 | N35: 刘美佳 | O35: 130630********1814 | P35: 本人 | Q35: 1500
A36: 32 | B36: 南马庄乡 | C36: 桦木沟村 | D36: 张慧娟 | E36: 130630********1822 | F36: 涞源职业技术教育中心 | G36: 中职 | H36: 三年制 | I36: 45901 | J36: 张文利 | K36: 132424********1810 | L36: 中国邮政储蓄银行涞源支行 | M36: 62179**********0000 | N36: 张慧娟 | O36: 130630********1814 | P36: 本人 | Q36: 1500
A37: 33 | B37: 南马庄乡 | C37: 桦木沟村 | D37: 张 宇 | E37: 130630********1815 | F37: 石家庄北方科技中等专业学校 | G37: 中职 | H37: 三年制 | I37: 45170 | J37: 张建国 | K37: 132424********1819 | L37: 中国邮政储蓄银行涞源支行 | M37: 62179**********0000 | N37: 张宇 | O37: 130630********1814 | P37: 本人 | Q37: 1500
A38: 34 | B38: 南马庄乡 | C38: 桦木沟村 | D38: 栗天赐 | E38: 130630********1818 | F38: 保定职业技术学院 | G38: 高职 | H38: 二年制 | I38: 45901 | J38: 蔺淑兰 | K38: 132424********1816 | L38: 中国建设银行涞源县支行 | M38: 62146**********8530 | N38: 栗天赐 | O38: 130630********1814 | P38: 本人 | Q38: 1500
A39: 35 | B39: 南马庄乡 | C39: 黄柏寺村 | D39: 王雪 | E39: 130630********182X | F39: 河北软件职业技术学院 | G39: 高职 | H39: 三年制 | I39: 45536 | J39: 高彩霞 | K39: 132424********1844 | L39: 中国邮政储蓄银行涞源支行 | M39: 62179**********8572 | N39: 高彩霞 | O39: 130630********1814 | P39: 母女 | Q39: 1500
A40: 36 | B40: 南马庄乡 | C40: 桑树堰村 | D40: 贾佳慧 | E40: 130630********1824 | F40: 河北旅游职业学院 | G40: 高职 | H40: 三年制 | I40: 45170 | J40: 贾春占 | K40: 132424********1814 | L40: 中国邮政储蓄银行涞源支行 | M40: 62179**********0992 | N40: 贾春占 | O40: 130630********1814 | P40: 父女 | Q40: 1500
A41: 37 | B41: 南马庄乡 | C41: 桑树堰村 | D41: 贾志杰 | E41: 130630********1835 | F41: 河北省涞源县职业技术教育中心 | G41: 中职 | H41: 三年制 | I41: 45170 | J41: 贾志杰 | K41: 130630********1835 | L41: 中国邮政储蓄银行涞源支行 | M41: 62179**********0178 | N41: 贾艳菊 | O41: 130630********1814 | P41: 母子 | Q41: 1500
A42: 38 | B42: 南马庄乡 | C42: 桑树堰村 | D42: 贾丽娟 | E42: 130630********1826 | F42: 河北省涞源县职业技术教育中心 | G42: 中职 | H42: 三年制 | I42: 45536 | J42: 郑玉琴 | K42: 132424********1820 | L42: 河北农村信用社涞源支行 | M42: 62302**********4180 | N42: 贾成伟 | O42: 130630********1814 | P42: 父女 | Q42: 1500
... A162: 158 | B162: 白石山镇 | C162: 庄伙村 | D162: 陈方圆 | E162: 130630********0328 | F162: 河北省涞源县职业技术教育中心 | G162: 中职 | H162: 三年制 | I162: 45536 | J162: 陈尚书 | K162: 132424********3217 | L162: 河北农村信用社涞源支行 | M162: 62302**********4215 | N162: 陈海龙 | O162: 130630********0314 | P162: 父女 | Q162: 1500
A163: 159 | B163: 白石山镇 | C163: 庄伙村 | D163: 李嘉桐 | E163: 130630********033X | F163: 河北省涞源县职业技术教育中心 | G163: 中职 | H163: 三年制 | I163: 45536 | J163: 李根彦 | K163: 132424********3233 | L163: 中国建设银行涞源县支行 | M163: 62146**********7603 | N163: 李根彦 | O163: 130630********0314 | P163: 父子 | Q163: 1500
A164: 160 | B164: 白石山镇 | C164: 白石山 | D164: 刘轩 | E164: 130630********0316 | F164: 邯郸科技职业学院 | G164: 高职 | H164: 三年制 | I164: 45901 | J164: 岳海艳 | K164: 132424********3228 | L164: 中国建设银行涞源县支行 | M164: 62146**********9910 | N164: 岳海艳 | O164: 130630********0314 | P164: 母子 | Q164: 1500
A165: 161 | B165: 白石山镇 | C165: 白石山 | D165: 何佳乐 | E165: 130630********0313 | F165: 鹤壁能源化工职业学院 | G165: 高职 | H165: 三年制 | I165: 45901 | J165: 何忙利 | K165: 132424********0310 | L165: 中国邮政储蓄银行涞源支行 | M165: 62179**********2315 | N165: 何忙利 | O165: 130630********0314 | P165: 父子 | Q165: 1500
A166: 162 | B166: 白石山镇 | C166: 白石山 | D166: 刘星彤 | E166: 130630********0329 | F166: 菏泽家政职业学院 | G166: 高职 | H166: 三年制 | I166: 45901 | J166: 范春花 | K166: 132424********032X | L166: 中国建设银行涞源县支行 | M166: 62146**********9076 | N166: 范春花 | O166: 130630********0314 | P166: 母女 | Q166: 1500
...

Sheet Sheet2

Sheet Sheet3
