Workbook

Sheet Sheet1
A1: 2026年春季学期雨露计划汇总表
A4: 序号 | B4: 镇 | C4: 行政村 | D4: 学生姓名 | E4: 学生身份证号 | F4: 学校名称 | G4: 学校性质 | H4: 学制（年） | I4: 入学时间 | J4: 户主姓名 | K4: 户主身份证号 | L4: 开户行（） | M4: 社保卡卡号 | N4: 持卡人姓名 | O4: 持卡人身份证号 | P4: 与学生关系 | Q4: 发放金额（元） | R4: 备注（是否新申请）
A5: 1 | B5: 南马庄乡 | C5: 小关城村 | D5: 李圣杰 | E5: 130630********1814 | F5: 武昌职业学院 | G5: 高职 | H5: 三年制 | I5: 45536 | J5: 李保 | K5: 132424********181X | L5: 中国工商银行股份有限公司涞源支行 | M5: 62220**********2104 | N5: 李圣杰 | O5: 130630********1814 | P5: 本人 | Q5: 1500
A6: 2 | B6: 南马庄乡 | C6: 小关城村 | D6: 王凯新 | E6: 130630********1827 | F6: 河北正定师范高等专科学校 | G6: 高职 | H6: 三年制 | I6: 45901 | J6: 王二章 | K6: 132424********1812 | L6: 中国邮政储蓄银行涞源支行 | M6: 62179**********5316 | N6: 王凯新 | O6: 130630********1814 | P6: 本人 | Q6: 1500
A7: 3 | B7: 南马庄乡 | C7: 小关城村 | D7: 王庆华 | E7: 130630********1827 | F7: 河北机电职业技术学院 | G7: 高职 | H7: 三年制 | I7: 45170 | J7: 王双明 | K7: 132424********1836 | L7: 中国工商银行股份有限公司涞源支行 | M7: 62220**********7008 | N7: 王庆华 | O7: 130630********1814 | P7: 本人 | Q7: 1500
A8: 4 | B8: 南马庄乡 | C8: 小关城村 | D8: 王庆玲 | E8: 130630********1843 | F8: 衡水职业技术学院 | G8: 高职 | H8: 三年制 | I8: 45901 | J8: 王庆玲 | K8: 130630********1843 | L8: 中国邮政储蓄银行涞源支行 | M8: 62179**********0720 | N8: 王庆玲 | O8: 130630********1814 | P8: 本人 | Q8: 1500
A9: 5 | B9: 南马庄乡 | C9: 小关城村 | D9: 王达 | E9: 130630********1818 | F9: 石家庄东华铁路中等专业学校 | G9: 中职 | H9: 三年制 | I9: 45992 | J9: 安河艳 | K9: 132424********1827 | L9: 中国农业银行股份有限公司涞源县支行 | M9: 62282**********9471 | N9: 王达 | O9: 130630********1814 | P9: 本人 | Q9: 1500
A10: 6 | B10: 南马庄乡 | C10: 谢台村 | D10: 李茵 | E10: 130630********1823 | F10: 涿州市技师学院 | G10: 技工院校 | H10: 二年制 | I10: 45901 | J10: 李过军 | K10: 132424********1814 | L10: 中国邮政储蓄银行涞源支行 | M10: 62179**********7938 | N10: 李过军 | O10: 130630********1814 | P10: 父女 | Q10: 1500
A11: 7 | B11: 南马庄乡 | C11: 谢台村 | D11: 李然 | E11: 130630********1825 | F11: 涞源县职业技术教育中心 | G11: 高职 | H11: 三年制 | I11: 45901 | J11: 李金强 | K11: 132424********181X | L11: 中国邮政储蓄银行涞源支行 | M11: 62179**********7565 | N11: 李金强 | O11: 130630********1814 | P11: 父女 | Q11: 1500
A12: 8 | B12: 南马庄乡 | C12: 谢台村 | D12: 史曼路 | E12: 130630********1823 | F12: 宝鸡三和职业学院 | G12: 高职 | H12: 三年制 | I12: 45170 | J12: 张峰 | K12: 132424********1825 | L12: 中国邮政储蓄银行涞源支行 | M12: 62179**********8544 | N12: 史曼路 | O12: 130630********1814 | P12: 母女 | Q12: 1500
A13: 9 | B13: 南马庄乡 | C13: 谢台村 | D13: 张晓雅 | E13: 130630********1827 | F13: 安阳幼儿师范高等专科学校 | G13: 高职 | H13: 三年制 | I13: 45536 | J13: 张志和 | K13: 132424********1819 | L13: 中国邮政储蓄银行涞源支行 | M13: 62179**********9414 | N13: 张志和 | O13: 130630********1814 | P13: 父女 | Q13: 1500
A14: 10 | B14: 南马庄乡 | C14: 焦树庄 | D14: 张铁权 | E14: 130630********1811 | F14: 涞源县职业技术教育中心 | G14: 中职 | H14: 三年制 | I14: 45170 | J14: 张海力 | K14: 132424********1813 | L14: 中国邮政储蓄银行涞源支行 | M14: 62179**********2314 | N14: 张海力 | O14: 130630********1814 | P14: 父子 | Q14: 1500
A15: 11 | B15: 南马庄乡 | C15: 焦树庄 | D15: 李苗 | E15: 130630********1822 | F15: 廊坊职业技术学院 | G15: 高职 | H15: 三年制 | I15: 45536 | J15: 李长命 | K15: 132424********1810 | L15: 中国邮政储蓄银行涞源支行 | M15: 62179**********8556 | N15: 李长命 | O15: 130630********1814 | P15: 父女 | Q15: 1500
A16: 12 | B16: 南马庄乡 | C16: 焦树庄 | D16: 杨瑾 | E16: 130630********1820 | F16: 沧州航空职业学院 | G16: 高职 | H16: 三年制 | I16: 45901 | J16: 杨记虎 | K16: 132424********1813 | L16: 中国邮政储蓄银行涞源支行 | M16: 62179**********3965 | N16: 杨瑾 | O16: 130630********1814 | P16: 本人 | Q16: 1500
A17: 13 | B17: 南马庄乡 | C17: 焦树庄 | D17: 李悦雯 | E17: 130630********182X | F17: 涞源县职业技术教育中心 | G17: 中职 | H17: 三年制 | I17: 45901 | J17: 李电亮 | K17: 130630********1810 | L17: 中国农业银行股份有限公司涞源县支行 | M17: 62282**********1070 | N17: 李悦雯 | O17: 130630********1814 | P17: 本人 | Q17: 1500
A18: 14 | B18: 南马庄乡 | C18: 范台村 | D18: 何佳荣 | E18: 130630********1822 | F18: 河北省涞源县职业技术教育中心 | G18: 中职 | H18: 三年制 | I18: 45536 | J18: 何建军 | K18: 132424********1811 | L18: 中国邮政储蓄银行涞源支行 | M18: 62179**********9350 | N18: 刘小四 | O18: 130630********1814 | P18: 母女 | Q18: 1500
A19: 15 | B19: 南马庄乡 | C19: 范台村 | D19: 刘佳瑞 | E19: 130630********1812 | F19: 河北省涞源县职业技术教育中心 | G19: 中职 | H19: 三年制 | I19: 45901 | J19: 刘永青 | K19: 132424********1858 | L19: 中国邮政储蓄银行涞源支行 | M19: 62179**********2665 | N19: 张月珍 | O19: 130630********1814 | P19: 母子 | Q19: 1500
A20: 16 | B20: 南马庄乡 | C20: 范台村 | D20: 刘丽娟 | E20: 130630********1822 | F20: 衡水职业技术学院 | G20: 高职 | H20: 三年制 | I20: 45901 | J20: 刘翠娥 | K20: 132424********1847 | L20: 中国邮政储蓄银行涞源支行 | M20: 62179**********1292 | N20: 刘翠娥 | O20: 130630********1814 | P20: 母女 | Q20: 1500
A21: 17 | B21: 南马庄乡 | C21: 范台村 | D21: 刘雅丽 | E21: 130630********1821 | F21: 河北省涞源县职业技术教育中心 | G21: 中职 | H21: 三年制 | I21: 45170 | J21: 刘天河 | K21: 132424********1811 | L21: 中国邮政储蓄银行涞源支行 | M21: 62179**********1655 | N21: 张均晴 | O21: 130630********1814 | P21: 母女 | Q21: 1500
A22: 18 | B22: 南马庄乡 | C22: 范台村 | D22: 刘艺畅 | E22: 130630********1829 | F22: 石家庄城市经济职业学院 | G22: 高职 | H22: 三年制 | I22: 45536 | J22: 刘关 | K22: 132424********1813 | L22: 中国邮政储蓄银行涞源支行 | M22: 62179**********4414 | N22: 段梅珍 | O22: 130630********1814 | P22: 母女 | Q22: 1500
A23: 19 | B23: 南马庄乡 | C23: 范台村 | D23: 刘勇杰 | E23: 130630********1815 | F23: 河北省涞源县职业技术教育中心 | G23: 中职 | H23: 三年制 | I23: 45536 | J23: 刘艮中 | K23: 132424********1811 | L23: 中国邮政储蓄银行涞源支行 | M23: 62179**********1292 | N23: 刘翠娥 | O23: 130630********1814 | P23: 母子 | Q23: 1500
... A29: 25 | B29: 南马庄乡 | C29: 范台村 | D29: 邹程明 | E29: 130630********1817 | F29: 河北省涞源县职业技术教育中心 | G29: 中职 | H29: 三年制 | I29: 45170 | J29: 邹保印 | K29: 132424********1817 | L29: 中国邮政储蓄银行涞源支行 | M29: 62179**********5233 | N29: 邹保印 | O29: 130630********1814 | P29: 父子 | Q29: 1500
A30: 26 | B30: 南马庄乡 | C30: 向阳会村 | D30: 崔景越 | E30: 130630********1838 | F30: 宣化科技职业学院 | G30: 高职 | H30: 二年制 | I30: 45566 | J30: 崔海龙 | K30: 130630********1818 | L30: 中国邮政储蓄银行涞源支行 | M30: 62179**********5113 | N30: 李青云 | O30: 130630********1814 | P30: 母子 | Q30: 1500
A31: 27 | B31: 南马庄乡 | C31: 向阳会村 | D31: 张思彤 | E31: 130630********1826 | F31: 秦皇岛工业职业技术学院 | G31: 高职 | H31: 三年制 | I31: 45505 | J31: 张海堂 | K31: 132424********1817 | L31: 河北农村信用社涞源支行 | M31: 62350**********1712 | N31: 张思彤 | O31: 130630********1814 | P31: 本人 | Q31: 1500
A32: 28 | B32: 南马庄乡 | C32: 向阳会村 | D32: 张思宇 | E32: 130630********182X | F32: 唐山幼儿师范高等专科学校 | G32: 高职 | H32: 三年制 | I32: 45901 | J32: 张海堂 | K32: 132424********1817 | L32: 中国邮政储蓄银行涞源支行 | M32: 62179**********6327 | N32: 张思宇 | O32: 130630********1814 | P32: 本人 | Q32: 1500
A33: 29 | B33: 南马庄乡 | C33: 向阳会村 | D33: 魏海行 | E33: 130630********1813 | F33: 黑龙江农垦职业学院 | G33: 高职 | H33: 三年制 | I33: 45901 | J33: 魏月军 | K33: 130630********1816 | L33: 中国邮政储蓄银行涞源支行 | M33: 62179**********3140 | N33: 魏月军 | O33: 130630********1814 | P33: 父子 | Q33: 1500
A34: 30 | B34: 南马庄乡 | C34: 桦木沟村 | D34: 张亚绘 | E34: 130630********182X | F34: 保定容大平安技工学校 | G34: 高职 | H34: 三年制 | I34: 45170 | J34: 张民利 | K34: 132424********1813 | L34: 中国邮政储蓄银行涞源支行 | M34: 62179**********0000 | N34: 张民利 | O34: 130630********1814 | P34: 父女 | Q34: 1500
A35: 31 | B35: 南马庄乡 | C35: 桦木沟村 | D35: 刘美佳 | E35: 130630********1824 | F35: 邯郸幼儿师范高等专科学校 | G35: 高职 | H35: 三年制 | I35: 45901 | J35: 刘春雷 | K35: 132424********1812 | L35: 中国工商银行股份有限公司涞源支行 | M35: 62172**********0000 | N35: 刘美佳 | O35: 130630********1814 | P35: 本人 | Q35: 1500
A36: 32 | B36: 南马庄乡 | C36: 桦木沟村 | D36: 张慧娟 | E36: 130630********1822 | F36: 涞源职业技术教育中心 | G36: 中职 | H36: 三年制 | I36: 45901 | J36: 张文利 | K36: 132424********1810 | L36: 中国邮政储蓄银行涞源支行 | M36: 62179**********0000 | N36: 张慧娟 | O36: 130630********1814 | P36: 本人 | Q36: 1500
A37: 33 | B37: 南马庄乡 | C37: 桦木沟村 | D37: 张 宇 | E37: 130630********1815 | F37: 石家庄北方科技中等专业学校 | G37: 中职 | H37: 三年制 | I37: 45170 | J37: 张建国 | K37: 132424********1819 | L37: 中国邮政储蓄银行涞源支行 | M37: 62179**********0000 | N37: 张宇 | O37: 130630********1814 | P37: 本人 | Q37: 1500
A38: 34 | B38: 南马庄乡 | C38: 桦木沟村 | D38: 栗天赐 | E38: 130630********1818 | F38: 保定职业技术学院 | G38: 高职 | H38: 二年制 | I38: 45901 | J38: 蔺淑兰 | K38: 132424********1816 | L38: 中国建设银行涞源县支行 | M38: 62146**********8530 | N38: 栗天赐 | O38: 130630********1814 | P38: 本人 | Q38: 1500
A39: 35 | B39: 南马庄乡 | C39: 黄柏寺村 | D39: 王雪 | E39: 130630********182X | F39: 河北软件职业技术学院 | G39: 高职 | H39: 三年制 | I39: 45536 | J39: 高彩霞 | K39: 132424********1844 | L39: 中国邮政储蓄银行涞源支行 | M39: 62179**********8572 | N39: 高彩霞 | O39: 130630********1814 | P39: 母女 | Q39: 1500
A40: 36 | B40: 南马庄乡 | C40: 桑树堰村 | D40: 贾佳慧 | E40: 130630********1824 | F40: 河北旅游职业学院 | G40: 高职 | H40: 三年制 | I40: 45170 | J40: 贾春占 | K40: 132424********1814 | L40: 中国邮政储蓄银行涞源支行 | M40: 62179**********0992 | N40: 贾春占 | O40: 130630********1814 | P40: 父女 | Q40: 1500
A41: 37 | B41: 南马庄乡 | C41: 桑树堰村 | D41: 贾志杰 | E41: 130630********1835 | F41: 河北省涞源县职业技术教育中心 | G41: 中职 | H41: 三年制 | I41: 45170 | J41: 贾志杰 | K41: 130630********1835 | L41: 中国邮政储蓄银行涞源支行 | M41: 62179**********0178 | N41: 贾艳菊 | O41: 130630********1814 | P41: 母子 | Q41: 1500
A42: 38 | B42: 南马庄乡 | C42: 桑树堰村 | D42: 贾丽娟 | E42: 130630********1826 | F42: 河北省涞源县职业技术教育中心 | G42: 中职 | H42: 三年制 | I42: 45536 | J42: 郑玉琴 | K42: 132424********1820 | L42: 河北农村信用社涞源支行 | M42: 62302**********4180 | N42: 贾成伟 | O42: 130630********1814 | P42: 父女 | Q42: 1500
... A162: 158 | B162: 白石山镇 | C162: 庄伙村 | D162: 陈方圆 | E162: 130630********0328 | F162: 河北省涞源县职业技术教育中心 | G162: 中职 | H162: 三年制 | I162: 45536 | J162: 陈尚书 | K162: 132424********3217 | L162: 河北农村信用社涞源支行 | M162: 62302**********4215 | N162: 陈海龙 | O162: 130630********0314 | P162: 父女 | Q162: 1500
A163: 159 | B163: 白石山镇 | C163: 庄伙村 | D163: 李嘉桐 | E163: 130630********033X | F163: 河北省涞源县职业技术教育中心 | G163: 中职 | H163: 三年制 | I163: 45536 | J163: 李根彦 | K163: 132424********3233 | L163: 中国建设银行涞源县支行 | M163: 62146**********7603 | N163: 李根彦 | O163: 130630********0314 | P163: 父子 | Q163: 1500
A164: 160 | B164: 白石山镇 | C164: 白石山 | D164: 刘轩 | E164: 130630********0316 | F164: 邯郸科技职业学院 | G164: 高职 | H164: 三年制 | I164: 45901 | J164: 岳海艳 | K164: 132424********3228 | L164: 中国建设银行涞源县支行 | M164: 62146**********9910 | N164: 岳海艳 | O164: 130630********0314 | P164: 母子 | Q164: 1500
A165: 161 | B165: 白石山镇 | C165: 白石山 | D165: 何佳乐 | E165: 130630********0313 | F165: 鹤壁能源化工职业学院 | G165: 高职 | H165: 三年制 | I165: 45901 | J165: 何忙利 | K165: 132424********0310 | L165: 中国邮政储蓄银行涞源支行 | M165: 62179**********2315 | N165: 何忙利 | O165: 130630********0314 | P165: 父子 | Q165: 1500
A166: 162 | B166: 白石山镇 | C166: 白石山 | D166: 刘星彤 | E166: 130630********0329 | F166: 菏泽家政职业学院 | G166: 高职 | H166: 三年制 | I166: 45901 | J166: 范春花 | K166: 132424********032X | L166: 中国建设银行涞源县支行 | M166: 62146**********9076 | N166: 范春花 | O166: 130630********0314 | P166: 母女 | Q166: 1500
A167: 163 | B167: 白石山镇 | C167: 白石山 | D167: 龙帅通 | E167: 130630********0310 | F167: 黑龙江林业职业技术学院 | G167: 高职 | H167: 三年制 | I167: 45901 | J167: 龙金所 | K167: 132424********0312 | L167: 中国工商银行股份有限公司涞源支行 | M167: 62172**********0247 | N167: 龙帅通 | O167: 130630********0314 | P167: 本人 | Q167: 1500
A168: 164 | B168: 白石山镇 | C168: 白石山 | D168: 董凯航 | E168: 130630********0316 | F168: 河北省涞源县职业技术教育中心 | G168: 中职 | H168: 三年制 | I168: 45901 | J168: 董忠岐 | K168: 132424********0312 | L168: 中国工商银行股份有限公司涞源支行 | M168: 62172**********1252 | N168: 董凯航 | O168: 130630********0314 | P168: 本人 | Q168: 1500
A169: 165 | B169: 白石山镇 | C169: 白石山 | D169: 龙心雨 | E169: 130630********0315 | F169: 保定职业技术学院 | G169: 高职 | H169: 三年制 | I169: 45536 | J169: 孙月灵 | K169: 130630********1023 | L169: 河北农村信用社涞源支行 | M169: 62302**********0475 | N169: 孙月灵 | O169: 130630********0314 | P169: 母子 | Q169: 1500
A170: 166 | B170: 白石山镇 | C170: 白石山 | D170: 李梦涵 | E170: 130630********0322 | F170: 沧州职业技术学院 | G170: 高职 | H170: 三年制 | I170: 45536 | J170: 李玉石 | K170: 132424********0313 | L170: 中国建设银行涞源县支行 | M170: 62146**********6090 | N170: 李玉石 | O170: 130630********0314 | P170: 父女 | Q170: 1500
A171: 167 | B171: 白石山镇 | C171: 白石山 | D171: 王莹 | E171: 130630********0349 | F171: 陕西工商职业学院 | G171: 高职 | H171: 三年制 | I171: 45536 | J171: 王占利 | K171: 132424********031X | L171: 河北农村信用社涞源支行 | M171: 62302**********2455 | N171: 李艳双 | O171: 130630********0314 | P171: 母女 | Q171: 1500
A172: 168 | B172: 白石山镇 | C172: 白石山 | D172: 董雨林 | E172: 130630********0373 | F172: 河北省涞源县职业技术教育中心 | G172: 中职 | H172: 三年制 | I172: 45536 | J172: 董大章 | K172: 132424********0352 | L172: 中国工商银行股份有限公司涞源支行 | M172: 62172**********1109 | N172: 董雨林 | O172: 130630********0314 | P172: 本人 | Q172: 1500
A173: 169 | B173: 白石山镇 | C173: 白石山 | D173: 董雨陆 | E173: 130630********0357 | F173: 河北省涞源县职业技术教育中心 | G173: 中职 | H173: 三年制 | I173: 45536 | J173: 董大章 | K173: 132424********0352 | L173: 中国工商银行股份有限公司涞源支行 | M173: 62172**********8816 | N173: 董雨陆 | O173: 130630********0314 | P173: 本人 | Q173: 1500
A174: 170 | B174: 白石山镇 | C174: 白石山 | D174: 董雨增 | E174: 130630********0330 | F174: 河北省涞源县职业技术教育中心 | G174: 中职 | H174: 三年制 | I174: 45536 | J174: 董大章 | K174: 132424********0352 | L174: 中国工商银行股份有限公司涞源支行 | M174: 62172**********1729 | N174: 董雨增 | O174: 130630********0314 | P174: 本人 | Q174: 1500
A175: 171 | B175: 白石山镇 | C175: 白石山 | D175: 樊恩慧 | E175: 130630********0324 | F175: 河北省涞源县职业技术教育中心 | G175: 中职 | H175: 三年制 | I175: 45536 | J175: 孙玉勤 | K175: 132424********0329 | L175: 中国工商银行股份有限公司涞源支行 | M175: 62172**********9815 | N175: 樊恩慧 | O175: 130630********0314 | P175: 本人 | Q175: 1500
... A189: 185 | B189: 白石山镇 | C189: 菜村岗 | D189: 李佳欣 | E189: 130630********0318 | F189: 衡水健康科技职业学院 | G189: 高职 | H189: 三年制 | I189: 45536 | J189: 李向东 | K189: 132424********2413 | L189: 中国银行涞源支行 | M189: 62175**********5493 | N189: 李向东 | O189: 130630********0314 | P189: 父子 | Q189: 1500
A190: 186 | B190: 白石山镇 | C190: 菜村岗 | D190: 刘晨宇 | E190: 130630********0318 | F190: 邢台应用技术职业学院 | G190: 高职 | H190: 三年制 | I190: 45139 | J190: 刘红生 | K190: 132424********3218 | L190: 中国农业银行股份有限公司涞源县支行 | M190: 62282**********4462 | N190: 刘晨宇 | O190: 130630********0314 | P190: 本人 | Q190: 1500
A191: 187 | B191: 白石山镇 | C191: 菜村岗 | D191: 刘粟月 | E191: 130630********0348 | F191: 燕京理工学院 | G191: 高职 | H191: 三年制 | I191: 45536 | J191: 刘志强 | K191: 132424********3211 | L191: 中国邮政储蓄银行涞源支行 | M191: 62179**********7052 | N191: 丁春燕 | O191: 130630********0314 | P191: 母女 | Q191: 1500
A192: 188 | B192: 白石山镇 | C192: 菜村岗 | D192: 刘子豪 | E192: 130630********0313 | F192: 河北省涞源县职业技术教育中心 | G192: 中职 | H192: 三年制 | I192: 45901 | J192: 刘志强 | K192: 132424********3211 | L192: 中国邮政储蓄银行涞源支行 | M192: 62179**********7052 | N192: 丁春燕 | O192: 130630********0314 | P192: 母子 | Q192: 1500
A193: 189 | B193: 白石山镇 | C193: 菜村岗 | D193: 宁士豪 | E193: 130630********0335 | F193: 河北省涞源县职业技术教育中心 | G193: 中职 | H193: 三年制 | I193: 45536 | J193: 宁保称 | K193: 132424********321143 | L193: 中国工商银行股份有限公司涞源支行 | M193: 62172**********6885 | N193: 宁士豪 | O193: 130630********0314 | P193: 本人 | Q193: 1500
A194: 190 | B194: 白石山镇 | C194: 菜村岗 | D194: 宁士嘉 | E194: 130630********0350 | F194: 沧州职业技术学院 | G194: 高职 | H194: 三年制 | I194: 45536 | J194: 宁保称 | K194: 132424********321143 | L194: 中国建设银行涞源县支行 | M194: 62146**********6220 | N194: 王小玉 | O194: 130630********0314 | P194: 母子 | Q194: 1500
A195: 191 | B195: 白石山镇 | C195: 菜村岗 | D195: 史景琦 | E195: 130630********0315 | F195: 河北对外经贸职业学院 | G195: 高职 | H195: 三年制 | I195: 45536 | J195: 唐艳亭 | K195: 132424********6521 | L195: 中国邮政储蓄银行涞源支行 | M195: 62179**********7578 | N195: 史景琦 | O195: 130630********0314 | P195: 本人 | Q195: 1500
A196: 192 | B196: 白石山镇 | C196: 菜村岗 | D196: 王紫彤 | E196: 130630********0327 | F196: 河北省涞源县职业技术教育中心 | G196: 中职 | H196: 三年制 | I196: 45536 | J196: 王文文 | K196: 130630********031X | L196: 河北农村信用社涞源支行 | M196: 62302**********1879 | N196: 王紫彤 | O196: 130630********0314 | P196: 本人 | Q196: 1500
A197: 193 | B197: 白石山镇 | C197: 菜村岗 | D197: 王紫旖 | E197: 130630********032X | F197: 河北省涞源县职业技术教育中心 | G197: 中职 | H197: 三年制 | I197: 45536 | J197: 王海江 | K197: 132424********161X | L197: 中国建设银行涞源县支行 | M197: 62146**********8205 | N197: 王海江 | O197: 130630********0314 | P197: 父女 | Q197: 1500
A198: 194 | B198: 白石山镇 | C198: 菜村岗 | D198: 杨胜童 | E198: 130630********0313 | F198: 河北省涞源县职业技术教育中心 | G198: 中职 | H198: 三年制 | I198: 45901 | J198: 陈丽霞 | K198: 130630********0321 | L198: 中国农业银行股份有限公司涞源县支行 | M198: 62282**********2173 | N198: 杨胜屹 | O198: 130630********0314 | P198: 哥哥 | Q198: 1500
A199: 195 | B199: 白石山镇 | C199: 菜村岗 | D199: 杨胜屹 | E199: 130630********031X | F199: 秦皇岛工业职业技术学院 | G199: 高职 | H199: 三年制 | I199: 45170 | J199: 陈丽霞 | K199: 130630********0321 | L199: 中国农业银行股份有限公司涞源县支行 | M199: 62282**********2173 | N199: 杨胜屹 | O199: 130630********0314 | P199: 本人 | Q199: 1500
A200: 196 | B200: 白石山镇 | C200: 菜村岗 | D200: 杨艺仙 | E200: 130630********0335 | F200: 山东交通职业学院 | G200: 高职 | H200: 三年制 | I200: 44440 | J200: 杨子江 | K200: 130630********0336 | L200: 河北农村信用社涞源支行 | M200: 62302**********2471 | N200: 杨子江 | O200: 130630********0314 | P200: 父子 | Q200: 1500 | R200: 2025当兵回来
A201: 197 | B201: 白石山镇 | C201: 菜村岗 | D201: 岳佳威 | E201: 130630********0314 | F201: 河北省涞源县职业技术教育中心 | G201: 中职 | H201: 三年制 | I201: 45536 | J201: 岳大永 | K201: 130630********0315 | L201: 中国建设银行涞源县支行 | M201: 62146**********6162 | N201: 岳大永 | O201: 130630********0314 | P201: 父子 | Q201: 1500
A202: 198 | B202: 白石山镇 | C202: 菜村岗 | D202: 岳佳宜 | E202: 130630********0326 | F202: 保定华中高级技工学校 | G202: 技工院校 | H202: 三年制 | I202: 45536 | J202: 岳志勇 | K202: 132424********0319 | L202: 中国邮政储蓄银行涞源支行 | M202: 62179**********0206 | N202: 岳佳宜 | O202: 130630********0314 | P202: 本人 | Q202: 1500
A203: 199 | B203: 白石山镇 | C203: 菜村岗 | D203: 岳净洁 | E203: 130630********0343 | F203: 沧州医学高等专科学校 | G203: 高职 | H203: 三年制 | I203: 45170 | J203: 岳永胜 | K203: 132424********3230 | L203: 中国农业银行股份有限公司涞源县支行 | M203: 62133**********9165 | N203: 岳净洁 | O203: 130630********0314 | P203: 本人 | Q203: 1500
A204: 200 | B204: 白石山镇 | C204: 菜村岗 | D204: 张磊 | E204: 130630********0315 | F204: 河北软件职业技术学院 | G204: 高职 | H204: 三年制 | I204: 45901 | J204: 张青春 | K204: 132424********3214 | L204: 中国邮政储蓄银行涞源支行 | M204: 62179**********3705 | N204: 张青春 | O204: 130630********0314 | P204: 父子 | Q204: 1500
A205: 201 | B205: 白石山镇 | C205: 菜村岗 | D205: 张颖力 | E205: 130630********0328 | F205: 石家庄幼儿师范高等专科学校 | G205: 高职 | H205: 三年制 | I205: 45170 | J205: 张永卫 | K205: 132424********3210 | L205: 中国农业银行股份有限公司涞源县支行 | M205: 62133**********9264 | N205: 张颖力 | O205: 130630********0314 | P205: 本人 | Q205: 1500
A206: 202 | B206: 白石山镇 | C206: 菜村岗 | D206: 张子安 | E206: 130630********0314 | F206: 内蒙古北方职业技术学院 | G206: 高职 | H206: 三年制 | I206: 45901 | J206: 张向阳 | K206: 132424********3211 | L206: 河北农村信用社涞源支行 | M206: 62302**********3626 | N206: 张向阳 | O206: 130630********0314 | P206: 父子 | Q206: 1500
A207: 203 | B207: 白石山镇 | C207: 菜村岗 | D207: 仲雨轩 | E207: 130630********0316 | F207: 石家庄工商职业学院 | G207: 高职 | H207: 三年制 | I207: 45901 | J207: 仲建勇 | K207: 132424********3235 | L207: 中国邮政储蓄银行涞源支行 | M207: 62179**********0551 | N207: 仲建勇 | O207: 130630********0314 | P207: 父子 | Q207: 1500
A208: 204 | B208: 白石山镇 | C208: 菜村岗 | D208: 仲哲彤 | E208: 130630********0316 | F208: 邢台医学院 | G208: 高职 | H208: 三年制 | I208: 45901 | J208: 李艳飞 | K208: 130630********0323 | L208: 河北农村信用社涞源支行 | M208: 62302**********1599 | N208: 李艳飞 | O208: 130630********0314 | P208: 母子 | Q208: 1500
A209: 205 | B209: 白石山镇 | C209: 草厂村 | D209: 邓月 | E209: 130630********0331 | F209: 曹妃甸职业技术学院 | G209: 高职 | H209: 三年制 | I209: 45901 | J209: 乔志成 | K209: 132424********3017 | L209: 中国农业银行股份有限公司涞源县支行 | M209: 62282**********2562 | N209: 邓月 | O209: 130630********0314 | P209: 本人 | Q209: 1500
A210: 206 | B210: 白石山镇 | C210: 草厂村 | D210: 杜鑫炜 | E210: 130630********0312 | F210: 河北省涞源县职业技术教育中心 | G210: 中职 | H210: 三年制 | I210: 45170 | J210: 杜明喜 | K210: 132424********3015 | L210: 中国农业银行股份有限公司涞源县支行 | M210: 62282**********9368 | N210: 杜鑫炜 | O210: 130630********0314 | P210: 本人 | Q210: 1500
A211: 207 | B211: 白石山镇 | C211: 草厂村 | D211: 黄文卓 | E211: 130630********0311 | F211: 承德护理职业学院 | G211: 高职 | H211: 三年制 | I211: 45901 | J211: 杜淑梅 | K211: 132424********3027 | L211: 中国邮政储蓄银行张家口市下花园支行 | M211: 62179**********6085 | N211: 黄文卓 | O211: 130630********0314 | P211: 本人 | Q211: 1500
A212: 208 | B212: 白石山镇 | C212: 草厂村 | D212: 刘晨红 | E212: 130630********0324 | F212: 河北省涞源县职业技术教育中心 | G212: 中职 | H212: 三年制 | I212: 45536 | J212: 刘小黑 | K212: 132424********3019 | L212: 中国工商银行股份有限公司涞源支行 | M212: 62172**********6617 | N212: 刘晨红 | O212: 130630********0314 | P212: 本人 | Q212: 1500
A213: 209 | B213: 白石山镇 | C213: 草厂村 | D213: 龙佳阳 | E213: 130630********0322 | F213: 曹妃甸职业技术学院 | G213: 高职 | H213: 三年制 | I213: 45170 | J213: 龙有田 | K213: 132424********3013 | L213: 中国农业银行股份有限公司涞源县支行 | M213: 62133**********2262 | N213: 龙佳阳 | O213: 130630********0314 | P213: 本人 | Q213: 1500
A214: 210 | B214: 白石山镇 | C214: 草厂村 | D214: 王静 | E214: 130630********0320 | F214: 石家庄铁路职业技术学院 | G214: 高职 | H214: 三年制 | I214: 45536 | J214: 王春生 | K214: 132424********3013 | L214: 中国农业银行股份有限公司涞源县支行 | M214: 62282**********0760 | N214: 王静 | O214: 130630********0314 | P214: 本人 | Q214: 1500
A215: 211 | B215: 白石山镇 | C215: 草厂村 | D215: 张浩然 | E215: 130105********3038 | F215: 河北省涞源县职业技术教育中心 | G215: 中职 | H215: 三年制 | I215: 45536 | J215: 张贵永 | K215: 130630********0313 | L215: 中国工商银行股份有限公司涞源支行 | M215: 62172**********8614 | N215: 张浩然 | O215: 130105********3014 | P215: 本人 | Q215: 1500
A216: 212 | B216: 白石山镇 | C216: 草厂村 | D216: 张利杨 | E216: 130630********0325 | F216: 河北省涞源县职业技术教育中心 | G216: 中职 | H216: 三年制 | I216: 45536 | J216: 杜果子 | K216: 130630********0310 | L216: 中国工商银行股份有限公司涞源支行 | M216: 62172**********6663 | N216: 张利杨 | O216: 130630********0314 | P216: 本人 | Q216: 1500
A217: 213 | B217: 白石山镇 | C217: 大草滩村 | D217: 岳子璇 | E217: 130630********0328 | F217: 沧州航空职业学校 | G217: 高职 | H217: 三年制 | I217: 45536 | J217: 岳双虎 | K217: 130630********0310 | L217: 中国工商银行股份有限公司涞源支行 | M217: 62172**********7366 | N217: 岳子璇 | O217: 130630********0314 | P217: 本人 | Q217: 1500
A218: 214 | B218: 白石山镇 | C218: 寨子村 | D218: 杨慧武 | E218: 130630********0310 | F218: 秦皇岛职业技术学院 | G218: 高职 | H218: 三年制 | I218: 45901 | J218: 宋海明 | K218: 132424********0328 | L218: 中国邮政储蓄银行涞源支行 | M218: 62179**********0744 | N218: 宋海明 | O218: 130630********0314 | P218: 奶奶 | Q218: 1500
A219: 215 | B219: 白石山镇 | C219: 东龙虎村 | D219: 王颖娜 | E219: 130630********0328 | F219: 北京经济技术职业学院 | G219: 高职 | H219: 三年制 | I219: 45170 | J219: 王连兵 | K219: 132424********0316 | L219: 中国建设银行涞源县支行 | M219: 62146**********2648 | N219: 王颖娜 | O219: 130630********0314 | P219: 本人 | Q219: 1500
A220: 216 | B220: 白石山镇 | C220: 东龙虎村 | D220: 李佳轩 | E220: 130630********0325 | F220: 河北省涞源县职业技术教育中心 | G220: 中职 | H220: 三年制 | I220: 45170 | J220: 李会忠 | K220: 132424********0319 | L220: 中国农业银行股份有限公司涞源县支行 | M220: 62282**********8367 | N220: 李佳轩 | O220: 130630********0314 | P220: 本人 | Q220: 1500
A221: 217 | B221: 白石山镇 | C221: 东龙虎村 | D221: 王俊杰 | E221: 130630********0314 | F221: 河北轨道运输职业技术学院 | G221: 高职 | H221: 三年制 | I221: 45536 | J221: 王喜亮 | K221: 130630********0354 | L221: 中国农业银行股份有限公司涞源县支行 | M221: 62282**********9468 | N221: 王俊杰 | O221: 130630********0314 | P221: 本人 | Q221: 1500
A222: 218 | B222: 白石山镇 | C222: 东龙虎村 | D222: 王博涛 | E222: 130630********0310 | F222: 河北省涞源县职业技术教育中心 | G222: 中职 | H222: 三年制 | I222: 45170 | J222: 王新亮 | K222: 130630********0314 | L222: 中国农业银行股份有限公司涞源县支行 | M222: 62282**********0363 | N222: 王博涛 | O222: 130630********0314 | P222: 本人 | Q222: 1500
A223: 219 | B223: 白石山镇 | C223: 东龙虎村 | D223: 王梦雅 | E223: 130630********0324 | F223: 石家庄医学高等专科学校 | G223: 高职 | H223: 三年制 | I223: 45170 | J223: 王小伟 | K223: 132424********0315 | L223: 中国银行涞源支行 | M223: 62156**********8610 | N223: 杨丽丽 | O223: 130630********0314 | P223: 母亲 | Q223: 1500
A224: 220 | B224: 白石山镇 | C224: 东龙虎村 | D224: 陶俊杰 | E224: 130630********0312 | F224: 河北省涞源县职业技术教育中心 | G224: 中职 | H224: 三年制 | I224: 45170 | J224: 陶明生 | K224: 130630********0357 | L224: 中国农业银行股份有限公司涞源县支行 | M224: 62282**********8778 | N224: 陶俊杰 | O224: 130630********0314 | P224: 本人 | Q224: 1500
A225: 221 | B225: 白石山镇 | C225: 东龙虎村 | D225: 刘梓诺 | E225: 130630********0348 | F225: 河北省涞源县职业技术教育中心 | G225: 中职 | H225: 三年制 | I225: 45901 | J225: 刘孙涛 | K225: 130630********0311 | L225: 中国邮政储蓄银行涞源支行 | M225: 62179**********9069 | N225: 刘梓诺 | O225: 130630********0314 | P225: 本人 | Q225: 1500
A226: 222 | B226: 白石山镇 | C226: 东龙虎村 | D226: 王俊伟 | E226: 130630********0315 | F226: 河北机电职业技术学院 | G226: 高职 | H226: 三年制 | I226: 45901 | J226: 王富强 | K226: 132424********031X | L226: 中国建设银行涞源县支行 | M226: 62170**********9217 | N226: 王俊伟 | O226: 130630********0314 | P226: 本人 | Q226: 1500
A227: 223 | B227: 白石山镇 | C227: 东龙虎村 | D227: 王凯博 | E227: 130630********0310 | F227: 唐山工业职业技术大学 | G227: 高职 | H227: 三年制 | I227: 45901 | J227: 王小四 | K227: 132424********0319 | L227: 中国工商银行股份有限公司涞源支行 | M227: 62172**********7358 | N227: 王凯博 | O227: 130630********0314 | P227: 本人 | Q227: 1500
A228: 224 | B228: 白石山镇 | C228: 东龙虎村 | D228: 王一卓 | E228: 130630********0311 | F228: 河北省涞源县职业技术教育中心 | G228: 中职 | H228: 三年制 | I228: 45901 | J228: 王艳阳 | K228: 130630********0318 | L228: 中国建设银行涞源县支行 | M228: 62146**********5168 | N228: 王一卓 | O228: 130630********0314 | P228: 本人 | Q228: 1500
A229: 225 | B229: 白石山镇 | C229: 东龙虎村 | D229: 刘嘉圆 | E229: 130630********0310 | F229: 河北省涞源县职业技术教育中心 | G229: 中职 | H229: 三年制 | I229: 45536 | J229: 刘来顺 | K229: 132424********0314 | L229: 中国建设银行涞源县支行 | M229: 62146**********1186 | N229: 刘来顺 | O229: 130630********0314 | P229: 父子 | Q229: 1500
A230: 226 | B230: 白石山镇 | C230: 东龙虎村 | D230: 王颖泽 | E230: 130630********0313 | F230: 河北省劳动关系职业学院 | G230: 高职 | H230: 三年制 | I230: 45536 | J230: 王东坡 | K230: 132424********0338 | L230: 中国建设银行涞源县支行 | M230: 62146**********1408 | N230: 刘娟娟 | O230: 130630********0314 | P230: 母子 | Q230: 1500
A231: 227 | B231: 白石山镇 | C231: 东龙虎村 | D231: 王杉茹 | E231: 130630********0341 | F231: 石家庄信息工程职业学院 | G231: 高职 | H231: 三年制 | I231: 45536 | J231: 宋芳芳 | K231: 130630********5022 | L231: 中国邮政储蓄银行涞源支行 | M231: 62179**********1664 | N231: 王杉茹 | O231: 130630********0314 | P231: 本人 | Q231: 1500
A232: 228 | B232: 白石山镇 | C232: 东龙虎村 | D232: 王柳卿 | E232: 130630********0321 | F232: 石家庄现代医学中等专业学校 | G232: 中职 | H232: 三年制 | I232: 45536 | J232: 王文波 | K232: 130630********0317 | L232: 河北农村信用社涞源支行 | M232: 62102**********1947 | N232: 王小敏 | O232: 130630********0314 | P232: 母女 | Q232: 1500
A233: 229 | B233: 白石山镇 | C233: 东龙虎村 | D233: 王卿柏 | E233: 130630********0316 | F233: 唐山工业职业技术大学 | G233: 高职 | H233: 三年制 | I233: 45536 | J233: 王文波 | K233: 130630********0317 | L233: 河北农村信用社涞源支行 | M233: 62102**********1947 | N233: 王小敏 | O233: 130630********0314 | P233: 母子 | Q233: 1500
A234: 230 | B234: 白石山镇 | C234: 东龙虎村 | D234: 王卓佳 | E234: 130630********0329 | F234: 承德护理职业学院 | G234: 高职 | H234: 三年制 | I234: 45170 | J234: 王建兵 | K234: 132424********0318 | L234: 中国农业银行股份有限公司涞源县支行 | M234: 62282**********6776 | N234: 王卓佳 | O234: 130630********0314 | P234: 本人 | Q234: 1500
A235: 231 | B235: 白石山镇 | C235: 东龙虎村 | D235: 王骞毅 | E235: 130630********0311 | F235: 保定华中高级技工学校 | G235: 技工院校 | H235: 三年制 | I235: 45170 | J235: 王永泽 | K235: 130630********0319 | L235: 中国银行涞源支行 | M235: 62175**********9179 | N235: 王骞毅 | O235: 130630********0314 | P235: 本人 | Q235: 1500 | R235: 新增
A236: 232 | B236: 白石山镇 | C236: 斗军湾村 | D236: 李思禄 | E236: 130630********0317 | F236: 河北省涞源县职业技术教育中心 | G236: 中职 | H236: 三年制 | I236: 45901 | J236: 李志强 | K236: 132424********321X | L236: 中国工商银行股份有限公司涞源支行 | M236: 62172**********8780 | N236: 李思禄 | O236: 130630********0314 | P236: 本人 | Q236: 1500
A237: 233 | B237: 白石山镇 | C237: 斗军湾村 | D237: 刘陈瑶 | E237: 130630********0324 | F237: 承德护理职业学院 | G237: 高职 | H237: 三年制 | I237: 45901 | J237: 刘志国 | K237: 132424********3219 | L237: 中国建设银行涞源县支行 | M237: 62146**********2530 | N237: 刘志国 | O237: 130630********0314 | P237: 父女 | Q237: 1500
A238: 234 | B238: 白石山镇 | C238: 斗军湾村 | D238: 刘鹏程 | E238: 130630********0312 | F238: 唐山科技职业技术学院 | G238: 高职 | H238: 三年制 | I238: 45901 | J238: 刘富龙 | K238: 132424********3214 | L238: 中国建设银行涞源县支行 | M238: 62146**********2406 | N238: 刘富龙 | O238: 130630********0314 | P238: 父子 | Q238: 1500
A239: 235 | B239: 白石山镇 | C239: 斗军湾村 | D239: 刘晚如 | E239: 130630********0325 | F239: 河北省涞源县职业技术教育中心 | G239: 中职 | H239: 三年制 | I239: 45901 | J239: 刘金成 | K239: 132424********321X | L239: 中国建设银行涞源县支行 | M239: 62146**********3005 | N239: 刘金成 | O239: 130630********0314 | P239: 父女 | Q239: 1500
...

Sheet Sheet2

Sheet Sheet3
